BEGIN:VCALENDAR
VERSION:2.0
PRODID:-//Saint-Bauzile - Lozère - ECPv6.15.18//NONSGML v1.0//EN
CALSCALE:GREGORIAN
METHOD:PUBLISH
X-ORIGINAL-URL:https://www.saint-bauzile.fr
X-WR-CALDESC:Évènements pour Saint-Bauzile - Lozère
REFRESH-INTERVAL;VALUE=DURATION:PT1H
X-Robots-Tag:noindex
X-PUBLISHED-TTL:PT1H
BEGIN:VTIMEZONE
TZID:Europe/Paris
BEGIN:DAYLIGHT
TZOFFSETFROM:+0100
TZOFFSETTO:+0200
TZNAME:CEST
DTSTART:20220327T010000
END:DAYLIGHT
BEGIN:STANDARD
TZOFFSETFROM:+0200
TZOFFSETTO:+0100
TZNAME:CET
DTSTART:20221030T010000
END:STANDARD
BEGIN:DAYLIGHT
TZOFFSETFROM:+0100
TZOFFSETTO:+0200
TZNAME:CEST
DTSTART:20230326T010000
END:DAYLIGHT
BEGIN:STANDARD
TZOFFSETFROM:+0200
TZOFFSETTO:+0100
TZNAME:CET
DTSTART:20231029T010000
END:STANDARD
BEGIN:DAYLIGHT
TZOFFSETFROM:+0100
TZOFFSETTO:+0200
TZNAME:CEST
DTSTART:20240331T010000
END:DAYLIGHT
BEGIN:STANDARD
TZOFFSETFROM:+0200
TZOFFSETTO:+0100
TZNAME:CET
DTSTART:20241027T010000
END:STANDARD
BEGIN:DAYLIGHT
TZOFFSETFROM:+0100
TZOFFSETTO:+0200
TZNAME:CEST
DTSTART:20250330T010000
END:DAYLIGHT
BEGIN:STANDARD
TZOFFSETFROM:+0200
TZOFFSETTO:+0100
TZNAME:CET
DTSTART:20251026T010000
END:STANDARD
BEGIN:DAYLIGHT
TZOFFSETFROM:+0100
TZOFFSETTO:+0200
TZNAME:CEST
DTSTART:20260329T010000
END:DAYLIGHT
BEGIN:STANDARD
TZOFFSETFROM:+0200
TZOFFSETTO:+0100
TZNAME:CET
DTSTART:20261025T010000
END:STANDARD
BEGIN:DAYLIGHT
TZOFFSETFROM:+0100
TZOFFSETTO:+0200
TZNAME:CEST
DTSTART:20270328T010000
END:DAYLIGHT
BEGIN:STANDARD
TZOFFSETFROM:+0200
TZOFFSETTO:+0100
TZNAME:CET
DTSTART:20271031T010000
END:STANDARD
END:VTIMEZONE
BEGIN:VEVENT
DTSTART;TZID=Europe/Paris:20260130T190000
DTEND;TZID=Europe/Paris:20260130T220000
DTSTAMP:20260425T145200
CREATED:20260120T101109Z
LAST-MODIFIED:20260120T101109Z
UID:1041-1769799600-1769810400@www.saint-bauzile.fr
SUMMARY:Vœux 2026
DESCRIPTION:Monsieur le Maire et l’ensemble des conseillers municipaux \nsont heureux de vous présenter leurs meilleurs vœux pour l’année 2026.\n \nEt ont le plaisir de vous convier à la traditionnelle cérémonie des vœux aux habitants\, suivie d’un apéritif  \n le vendredi 30 janvier à 19h00  \nà la salle du camping de Rouffiac. \n 
URL:https://www.saint-bauzile.fr/evenement/voeux-2026/
LOCATION:Camping de Rouffiac
END:VEVENT
BEGIN:VEVENT
DTSTART;TZID=Europe/Paris:20260120T080000
DTEND;TZID=Europe/Paris:20260120T170000
DTSTAMP:20260425T145200
CREATED:20260120T100809Z
LAST-MODIFIED:20260120T100916Z
UID:1058-1768896000-1768928400@www.saint-bauzile.fr
SUMMARY:Cérémonie des vœux 2026
DESCRIPTION:Le maire et tous les membres du Conseil municipal ont l’honneur de convier les habitants \nle vendredi 30 janvier 2026 à 19h00 à la salle municipale du camping
URL:https://www.saint-bauzile.fr/evenement/ceremonie-des-voeux-2026/
END:VEVENT
BEGIN:VEVENT
DTSTART;TZID=Europe/Paris:20251109T110000
DTEND;TZID=Europe/Paris:20251109T120000
DTSTAMP:20260425T145200
CREATED:20251029T163031Z
LAST-MODIFIED:20251029T163322Z
UID:1033-1762686000-1762689600@www.saint-bauzile.fr
SUMMARY:Commémoration du 11 novembre 1918
DESCRIPTION:
URL:https://www.saint-bauzile.fr/evenement/commemoration-du-11-novembre-1918/
LOCATION:Monument aux morts
ATTACH;FMTTYPE=image/png:https://www.saint-bauzile.fr/wp-content/uploads/sites/12/2025/10/carte_1761583165245.png
END:VEVENT
BEGIN:VEVENT
DTSTART;VALUE=DATE:20250921
DTEND;VALUE=DATE:20250922
DTSTAMP:20260425T145200
CREATED:20250829T092535Z
LAST-MODIFIED:20250829T092535Z
UID:949-1758412800-1758499199@www.saint-bauzile.fr
SUMMARY:Valdo Trail 2025 - 8e édition
DESCRIPTION:8e édition du Valdo Trail – Rendez-vous au camping de Rouffiac \nCourses de 20 Km\, de 13 Km\, de 8 Km et de 4 Km
URL:https://www.saint-bauzile.fr/evenement/valdo-trail-2025-8e-edition/
LOCATION:Camping de Rouffiac
ATTACH;FMTTYPE=image/jpeg:https://www.saint-bauzile.fr/wp-content/uploads/sites/12/2025/08/2025_trail.jpg
END:VEVENT
BEGIN:VEVENT
DTSTART;VALUE=DATE:20250914
DTEND;VALUE=DATE:20250915
DTSTAMP:20260425T145200
CREATED:20250829T090058Z
LAST-MODIFIED:20250829T090058Z
UID:938-1757808000-1757894399@www.saint-bauzile.fr
SUMMARY:Vide-Grenier de l'APE du Groupe scolaire de Brenoux/Saint-Bauzile
DESCRIPTION:La prochaine édition du Vide-Grenier de l’APE du Groupe Scolaire Brenoux/Saint-Bauzile aura lieu le Dimanche 14 septembre 2025\, au Camping Municipal de Rouffiac.
URL:https://www.saint-bauzile.fr/evenement/vide-grenier-de-lape-du-groupe-scolaire-de-brenoux-saint-bauzile-2/
LOCATION:Camping de Rouffiac
ATTACH;FMTTYPE=image/jpeg:https://www.saint-bauzile.fr/wp-content/uploads/sites/12/2025/08/Affiche-VG-2025-scaled.jpg
END:VEVENT
BEGIN:VEVENT
DTSTART;TZID=Europe/Paris:20240609T080000
DTEND;TZID=Europe/Paris:20240609T180000
DTSTAMP:20260425T145200
CREATED:20240513T095122Z
LAST-MODIFIED:20240513T095122Z
UID:865-1717920000-1717956000@www.saint-bauzile.fr
SUMMARY:Élections européennes - dimanche 9 juin 2024
DESCRIPTION:Les représentants au Parlement européen sont élus par les citoyens des pays de l’Union européenne lors des élections européennes. Il n’y a qu’un seul tour. \nTout.e citoyen.ne âgé.e d’au moins 18 ans et inscrit.e sur les listes électorales communales\, consulaires ou complémentaires peut voter. \nIl est aussi possible de voter par procuration. \nhttps://www.service-public.fr/particuliers/vosdroits/F37958/1_0?idFicheParent=F1944
URL:https://www.saint-bauzile.fr/evenement/elections-europeennes-dimanche-9-juin-2024/
END:VEVENT
BEGIN:VEVENT
DTSTART;TZID=Europe/Paris:20240203T193000
DTEND;TZID=Europe/Paris:20240203T233000
DTSTAMP:20260425T145200
CREATED:20240117T154620Z
LAST-MODIFIED:20240117T160348Z
UID:855-1706988600-1707003000@www.saint-bauzile.fr
SUMMARY:Loto de l'APE du groupe scolaire de Brenoux/ Saint-Bauzile
DESCRIPTION:Réservez dès à présent votre soirée pour le loto de l’école ! \nLOTO BONS D’ACHAT SANS ORDINATEUR \nRENDEZ-VOUS Samedi 3 février 2024 à partir de 19h30\nà la Salle des fêtes de SAINT-ETIENNE-DU VALDONNEZ \nBuvette et petite restauration sur place ! \n\npartie enfants offerte à 20h15\nparties spéciales et bingo !
URL:https://www.saint-bauzile.fr/evenement/loto-de-lape-du-groupe-scolaire-de-brenoux-saint-bauzile/
LOCATION:Salle des fêtes de Saint Etienne du Valdonnez
ATTACH;FMTTYPE=image/jpeg:https://www.saint-bauzile.fr/wp-content/uploads/sites/12/2024/01/LOTO_APE.jpg
END:VEVENT
BEGIN:VEVENT
DTSTART;TZID=Europe/Paris:20240120T180000
DTEND;TZID=Europe/Paris:20240120T180000
DTSTAMP:20260425T145200
CREATED:20240108T145419Z
LAST-MODIFIED:20240108T145419Z
UID:844-1705773600-1705773600@www.saint-bauzile.fr
SUMMARY:Premier VALDO TRAIL nocturne
DESCRIPTION:Départ de la salle des fêtes de Langlade – 48000 BRENOUX \n« Amis traileurs nocturnes Lozériens\, voici l’affiche officielle de la première édition du VALDO TRAIL nocturne qui aura lieu le Samedi 20 Janvier 2024 avec un départ à 18h00 de la salle des fêtes de Langlade! Nous espérons vous compter parmis nous pour un bon petit moment de sport et de convivialité suivi d’un bon repas préparé par les chasseurs de Brenoux Saint-Bauzile.« 
URL:https://www.saint-bauzile.fr/evenement/premier-valdo-trail-nocturne/
LOCATION:Salle des fêtes de Langlade\, Langlade\, Brenoux\, 48000
ATTACH;FMTTYPE=image/jpeg:https://www.saint-bauzile.fr/wp-content/uploads/sites/12/2024/01/valdo_trail_nocturne.jpg
END:VEVENT
BEGIN:VEVENT
DTSTART;TZID=Europe/Paris:20240108T180000
DTEND;TZID=Europe/Paris:20240108T180000
DTSTAMP:20260425T145200
CREATED:20240108T144642Z
LAST-MODIFIED:20240108T144642Z
UID:839-1704736800-1704736800@www.saint-bauzile.fr
SUMMARY:VŒUX 2024
DESCRIPTION:Monsieur le Maire et les élus du Conseil Municipal \nsont heureux de vous présenter leurs meilleurs Vœux pour l’année 2024 \net ont le plaisir de vous convier à la présentation des vœux aux habitants de la commune suivi d’un apéritif \n  \nSamedi 13 janvier 2024 à partir de 18h00 \nà la salle du camping de Rouffiac
URL:https://www.saint-bauzile.fr/evenement/voeux-2024/
LOCATION:Salle du camping de Rouffiac
ATTACH;FMTTYPE=application/pdf:https://www.saint-bauzile.fr/wp-content/uploads/sites/12/2024/01/2024_voeux.pdf
END:VEVENT
BEGIN:VEVENT
DTSTART;TZID=Europe/Paris:20231112T110000
DTEND;TZID=Europe/Paris:20231112T120000
DTSTAMP:20260425T145200
CREATED:20231107T151727Z
LAST-MODIFIED:20231107T151727Z
UID:819-1699786800-1699790400@www.saint-bauzile.fr
SUMMARY:105ème anniversaire de l'Armistice du 11 novembre 1918
DESCRIPTION:Monsieur le Maire et les membres du Conseil municipal de la commune de Saint-Bauzile seraient honorés de votre présence lors de la cérémonie de commémoration de l’armistice de 1918 \nle dimanche 12 novembre 2023 à 11h00 au Monument aux morts de Saint-Bauzile
URL:https://www.saint-bauzile.fr/evenement/105eme-anniversaire-de-larmistice-du-11-novembre-1918/
LOCATION:Monument aux morts
END:VEVENT
BEGIN:VEVENT
DTSTART;TZID=Europe/Paris:20230924T080000
DTEND;TZID=Europe/Paris:20230924T170000
DTSTAMP:20260425T145200
CREATED:20230914T142202Z
LAST-MODIFIED:20230914T142344Z
UID:758-1695542400-1695574800@www.saint-bauzile.fr
SUMMARY:Vide-grenier de l'APE du Groupe scolaire de Brenoux/Saint-Bauzile
DESCRIPTION:
URL:https://www.saint-bauzile.fr/evenement/vide-grenier-de-lape-du-groupe-scolaire-de-brenoux-saint-bauzile/
LOCATION:Camping de Rouffiac
ATTACH;FMTTYPE=image/jpeg:https://www.saint-bauzile.fr/wp-content/uploads/sites/12/2023/09/VG_2023.jpg
END:VEVENT
BEGIN:VEVENT
DTSTART;TZID=Europe/Paris:20230917T080000
DTEND;TZID=Europe/Paris:20230917T140000
DTSTAMP:20260425T145200
CREATED:20230914T141636Z
LAST-MODIFIED:20230914T142244Z
UID:746-1694937600-1694959200@www.saint-bauzile.fr
SUMMARY:Valdo Trail
DESCRIPTION:
URL:https://www.saint-bauzile.fr/evenement/trail/
LOCATION:Stade de Rouffiac
ATTACH;FMTTYPE=image/jpeg:https://www.saint-bauzile.fr/wp-content/uploads/sites/12/2023/09/trail_2023-1.jpg
END:VEVENT
BEGIN:VEVENT
DTSTART;TZID=Europe/Paris:20230901T183000
DTEND;TZID=Europe/Paris:20230901T210000
DTSTAMP:20260425T145200
CREATED:20230824T145029Z
LAST-MODIFIED:20230914T141410Z
UID:728-1693593000-1693602000@www.saint-bauzile.fr
SUMMARY:CIAS - vendredi 1er septembre 2023 - Vie de famille\, cohabiter avec les écrans
DESCRIPTION:
URL:https://www.saint-bauzile.fr/evenement/cias-vendredi-1er-septembre-2023-vie-de-famille-cohabiter-avec-les-ecrans/
ATTACH;FMTTYPE=application/pdf:https://www.saint-bauzile.fr/wp-content/uploads/sites/12/2023/08/20230824_082851.pdf
END:VEVENT
BEGIN:VEVENT
DTSTART;TZID=Europe/Paris:20230716T183000
DTEND;TZID=Europe/Paris:20230716T203000
DTSTAMP:20260425T145200
CREATED:20230614T135117Z
LAST-MODIFIED:20230614T135117Z
UID:668-1689532200-1689539400@www.saint-bauzile.fr
SUMMARY:Visite-concert : concert AMUSEL
DESCRIPTION:Visite-Concert à l’église du Falisson dans le cadre du Festival musical Pays d’Art et d’Histoire Mende & Lot en Gévaudan \nOrganisé par le Pays d’Art et d’Histoire Mende & Lot en Gévaudan\, en partenariat avec la Société des Lettres\, Sciences et Arts de la Lozère et les Amis de la Providence.
URL:https://www.saint-bauzile.fr/evenement/visite-concert-concert-amusel/
LOCATION:Eglise du Falisson\, Le falisson Saint-Bauzile\, 48000
END:VEVENT
BEGIN:VEVENT
DTSTART;TZID=Europe/Paris:20230625T100000
DTEND;TZID=Europe/Paris:20230625T190000
DTSTAMP:20260425T145200
CREATED:20230614T123207Z
LAST-MODIFIED:20230622T141518Z
UID:633-1687687200-1687719600@www.saint-bauzile.fr
SUMMARY:Journée du patrimoine et des moulins
DESCRIPTION:Visite des moulins de la commune et rencontre avec Daniel VITROLLES \nVisite proposée par le Pays d’Art et d’Histoire Mende & Lot en Gévaudan en partenariat avec l’association lozérienne des amis des moulins \nDimanche 25 juin 2023 de 10h00 à 19h00 \n 
URL:https://www.saint-bauzile.fr/evenement/journee-du-patrimoine-et-des-moulins/
END:VEVENT
END:VCALENDAR